BEGIN:VCALENDAR
VERSION:2.0
PRODID: -//CMS 5.0 //NONSGML //DE
BEGIN:VEVENT
SUMMARY:Kids aktiv: Kinderaktivitäten 2026
DESCRIPTION:<p>Kids Aktiv im Monbachtal<br />\n(für alle Sonntagsschül
 erInnen)</p>\n\n<p>Nähere Infos folgen!</p>\n
UID:363242@www.nak-calw.de
LOCATION:
CATEGORIES:Bezirk (ohne Gemeinden),Kinder
X-ORGANIZER:
STATUS:CONFIRMED
CLASS:PUBLIC
DTSTART;VALUE=DATE:20260509
DTEND;VALUE=DATE:20260510
DTSTAMP:20260421T162132Z
CREATED:20260408T110222Z
LAST-MODIFIED:20260408T113001Z
END:VEVENT
BEGIN:VEVENT
SUMMARY:Kids aktiv: Kinderaktivitäten 2026
DESCRIPTION:<p>Kindergottesdienst in Neubulach<br />\n(für alle Sonntag
 sschülerInnen)</p>\n\n<p>Nähere Infos folgen!</p>\n
UID:363244@www.nak-calw.de
LOCATION:
CATEGORIES:Bezirk (ohne Gemeinden),Kinder
X-ORGANIZER:
STATUS:CONFIRMED
CLASS:PUBLIC
DTSTART:20260919T220000Z
DTEND:20260919T220000Z
DTSTAMP:20260421T162132Z
CREATED:20260408T110648Z
LAST-MODIFIED:20260408T112926Z
END:VEVENT
BEGIN:VEVENT
SUMMARY:Kids aktiv: Kinderaktivitäten 2026
DESCRIPTION:<p>Kids Aktiv in Neubulach<br />\n(für alle Sonntagsschüle
 rInnen)</p>\n\n<p>Nähere Infos folgen!</p>\n
UID:363245@www.nak-calw.de
LOCATION:
CATEGORIES:Kinder,Bezirk (ohne Gemeinden)
X-ORGANIZER:
STATUS:CONFIRMED
CLASS:PUBLIC
DTSTART;VALUE=DATE:20261010
DTEND;VALUE=DATE:20261011
DTSTAMP:20260421T162132Z
CREATED:20260408T110739Z
LAST-MODIFIED:20260408T112910Z
END:VEVENT
BEGIN:VEVENT
SUMMARY:Kids aktiv: Kinderaktivitäten 2026
DESCRIPTION:<p>Kids aktiv in Oberreichenbach<br />\n(für alle Sonntagss
 chülerInnen)</p>\n\n<p>Nähere Infos folgen!</p>\n
UID:363246@www.nak-calw.de
LOCATION:
CATEGORIES:Kinder,Bezirk (ohne Gemeinden)
X-ORGANIZER:
STATUS:CONFIRMED
CLASS:PUBLIC
DTSTART;VALUE=DATE:20261121
DTEND;VALUE=DATE:20261122
DTSTAMP:20260421T162132Z
CREATED:20260408T110821Z
LAST-MODIFIED:20260408T112853Z
END:VEVENT
BEGIN:VEVENT
SUMMARY:Kids aktiv: Kinderaktivitäten 2026
DESCRIPTION:<p>Kids aktiv: Kindertag in Calw<br />\n(für alle Sonntagss
 chülerInnen)</p>\n\n<p>Nähere Infos folgen!</p>\n
UID:363247@www.nak-calw.de
LOCATION:
CATEGORIES:Kinder,Bezirk (ohne Gemeinden)
X-ORGANIZER:
STATUS:CONFIRMED
CLASS:PUBLIC
DTSTART;VALUE=DATE:20260718
DTEND;VALUE=DATE:20260719
DTSTAMP:20260421T162132Z
CREATED:20260408T111245Z
LAST-MODIFIED:20260408T112945Z
END:VEVENT
END:VCALENDAR
